Package: dir.expiry Version: 1.17.0 Command: /Library/Frameworks/R.framework/Resources/bin/R CMD check --install=check:dir.expiry.install-out.txt --library=/Library/Frameworks/R.framework/Resources/library --no-vignettes --timings dir.expiry_1.17.0.tar.gz StartedAt: 2025-05-09 19:15:14 -0400 (Fri, 09 May 2025) EndedAt: 2025-05-09 19:15:25 -0400 (Fri, 09 May 2025) EllapsedTime: 11.1 seconds RetCode: 0 Status: OK CheckDir: dir.expiry.Rcheck Warnings: 0