Package: dinoR Version: 1.5.0 Command: rm -rf dinoR.buildbin-libdir && mkdir dinoR.buildbin-libdir && F:\biocbuild\bbs-3.22-bioc\R\bin\R.exe CMD INSTALL --build --library=dinoR.buildbin-libdir dinoR_1.5.0.tar.gz StartedAt: 2025-08-15 10:09:48 -0400 (Fri, 15 Aug 2025) EndedAt: 2025-08-15 10:10:20 -0400 (Fri, 15 Aug 2025) EllapsedTime: 32.4 seconds RetCode: 0 Status: OK PackageFile: dinoR_1.5.0.zip PackageFileSize: 2.65 MiB