Package: dinoR Version: 1.3.0 Command: /home/biocbuild/R/R/bin/R CMD check --install=check:dinoR.install-out.txt --library=/home/biocbuild/R/R/site-library --no-vignettes --timings dinoR_1.3.0.tar.gz StartedAt: 2025-01-28 10:00:46 -0000 (Tue, 28 Jan 2025) EndedAt: 2025-01-28 10:05:23 -0000 (Tue, 28 Jan 2025) EllapsedTime: 277.2 seconds RetCode: 0 Status: OK CheckDir: dinoR.Rcheck Warnings: 0