Package: diffuStats Version: 1.29.0 Command: /Library/Frameworks/R.framework/Resources/bin/R CMD check --install=check:diffuStats.install-out.txt --library=/Library/Frameworks/R.framework/Resources/library --no-vignettes --timings diffuStats_1.29.0.tar.gz StartedAt: 2025-05-09 19:14:43 -0400 (Fri, 09 May 2025) EndedAt: 2025-05-09 19:15:14 -0400 (Fri, 09 May 2025) EllapsedTime: 31.4 seconds RetCode: 0 Status: OK CheckDir: diffuStats.Rcheck Warnings: 0