Package: diffuStats Version: 1.29.0 Command: rm -rf diffuStats.buildbin-libdir && mkdir diffuStats.buildbin-libdir && /Users/biocbuild/BBS/utils/build-universal.sh diffuStats_1.29.0.tar.gz /Library/Frameworks/R.framework/Resources/bin/R diffuStats.buildbin-libdir StartedAt: 2025-05-09 22:38:50 -0400 (Fri, 09 May 2025) EndedAt: 2025-05-09 22:39:00 -0400 (Fri, 09 May 2025) EllapsedTime: 10.2 seconds RetCode: 0 Status: OK PackageFile: diffuStats_1.29.0.tgz PackageFileSize: 1.428 MiB