Package: diffcoexp Version: 1.29.0 Command: /home/biocbuild/bbs-3.22-bioc/R/bin/R CMD build --keep-empty-dirs --no-resave-data --md5 diffcoexp StartedAt: 2025-07-23 17:17:08 -0400 (Wed, 23 Jul 2025) EndedAt: 2025-07-23 17:17:49 -0400 (Wed, 23 Jul 2025) EllapsedTime: 41.0 seconds RetCode: 0 Status: OK PackageFile: diffcoexp_1.29.0.tar.gz PackageFileSize: 294.9 KiB