Package: diffUTR Version: 1.15.0 Command: /home/biocbuild/bbs-3.21-bioc/R/bin/R CMD check --install=check:diffUTR.install-out.txt --library=/home/biocbuild/bbs-3.21-bioc/R/site-library --timings diffUTR_1.15.0.tar.gz StartedAt: 2025-02-02 21:41:20 -0500 (Sun, 02 Feb 2025) EndedAt: 2025-02-02 21:47:16 -0500 (Sun, 02 Feb 2025) EllapsedTime: 356.4 seconds RetCode: 0 Status: OK CheckDir: diffUTR.Rcheck Warnings: 0