Package: diffUTR Version: 1.17.0 Command: /Library/Frameworks/R.framework/Resources/bin/R CMD INSTALL diffUTR StartedAt: 2025-07-21 15:33:42 -0400 (Mon, 21 Jul 2025) EndedAt: 2025-07-21 15:34:41 -0400 (Mon, 21 Jul 2025) EllapsedTime: 59.2 seconds RetCode: 0 Status: OK