Package: diffUTR Version: 1.17.0 Command: /Library/Frameworks/R.framework/Resources/bin/R CMD check --install=check:diffUTR.install-out.txt --library=/Library/Frameworks/R.framework/Resources/library --no-vignettes --timings diffUTR_1.17.0.tar.gz StartedAt: 2025-05-06 20:17:03 -0400 (Tue, 06 May 2025) EndedAt: 2025-05-06 20:22:39 -0400 (Tue, 06 May 2025) EllapsedTime: 335.5 seconds RetCode: 0 Status: OK CheckDir: diffUTR.Rcheck Warnings: 0