Package: diffUTR Version: 1.17.0 Command: /Library/Frameworks/R.framework/Resources/bin/R CMD INSTALL diffUTR StartedAt: 2025-05-07 15:23:11 -0400 (Wed, 07 May 2025) EndedAt: 2025-05-07 15:23:31 -0400 (Wed, 07 May 2025) EllapsedTime: 20.2 seconds RetCode: 0 Status: OK