Package: diffUTR Version: 1.17.0 Command: /Library/Frameworks/R.framework/Resources/bin/R CMD check --install=check:diffUTR.install-out.txt --library=/Library/Frameworks/R.framework/Resources/library --no-vignettes --timings diffUTR_1.17.0.tar.gz StartedAt: 2025-05-08 19:17:27 -0400 (Thu, 08 May 2025) EndedAt: 2025-05-08 19:19:51 -0400 (Thu, 08 May 2025) EllapsedTime: 144.9 seconds RetCode: 0 Status: OK CheckDir: diffUTR.Rcheck Warnings: 0