Package: diffUTR Version: 1.17.0 Command: /Library/Frameworks/R.framework/Resources/bin/R CMD build --keep-empty-dirs --no-resave-data diffUTR StartedAt: 2025-05-08 16:12:19 -0400 (Thu, 08 May 2025) EndedAt: 2025-05-08 16:12:53 -0400 (Thu, 08 May 2025) EllapsedTime: 34.4 seconds RetCode: 0 Status: OK PackageFile: diffUTR_1.17.0.tar.gz PackageFileSize: 1.377 MiB