Package: diffHic Version: 1.41.0 Command: /home/biocbuild/bbs-3.22-bioc/R/bin/R CMD INSTALL diffHic StartedAt: 2025-07-21 15:38:05 -0400 (Mon, 21 Jul 2025) EndedAt: 2025-07-21 15:39:37 -0400 (Mon, 21 Jul 2025) EllapsedTime: 91.4 seconds RetCode: 0 Status: OK