Package: diffGeneAnalysis Version: 1.91.0 Command: /home/biocbuild/bbs-3.22-bioc/R/bin/R CMD build --keep-empty-dirs --no-resave-data --md5 diffGeneAnalysis StartedAt: 2025-07-15 16:57:27 -0400 (Tue, 15 Jul 2025) EndedAt: 2025-07-15 16:57:32 -0400 (Tue, 15 Jul 2025) EllapsedTime: 5.0 seconds RetCode: 0 Status: OK PackageFile: diffGeneAnalysis_1.91.0.tar.gz PackageFileSize: 214 KiB