Package: diffGeneAnalysis Version: 1.91.0 Command: rm -rf diffGeneAnalysis.buildbin-libdir && mkdir diffGeneAnalysis.buildbin-libdir && /Users/biocbuild/BBS/utils/build-universal.sh diffGeneAnalysis_1.91.0.tar.gz /Library/Frameworks/R.framework/Resources/bin/R diffGeneAnalysis.buildbin-libdir StartedAt: 2025-05-22 00:26:25 -0400 (Thu, 22 May 2025) EndedAt: 2025-05-22 00:26:29 -0400 (Thu, 22 May 2025) EllapsedTime: 4.7 seconds RetCode: 0 Status: OK PackageFile: diffGeneAnalysis_1.91.0.tgz PackageFileSize: 249.9 KiB