Package: diffGeneAnalysis Version: 1.91.0 Command: /Library/Frameworks/R.framework/Resources/bin/R CMD INSTALL diffGeneAnalysis StartedAt: 2025-05-22 15:02:42 -0400 (Thu, 22 May 2025) EndedAt: 2025-05-22 15:02:46 -0400 (Thu, 22 May 2025) EllapsedTime: 3.6 seconds RetCode: 0 Status: OK