Package: diffGeneAnalysis Version: 1.91.0 Command: rm -rf diffGeneAnalysis.buildbin-libdir && mkdir diffGeneAnalysis.buildbin-libdir && /Users/biocbuild/BBS/utils/build-universal.sh diffGeneAnalysis_1.91.0.tar.gz /Library/Frameworks/R.framework/Resources/bin/R diffGeneAnalysis.buildbin-libdir StartedAt: 2025-05-26 22:23:02 -0400 (Mon, 26 May 2025) EndedAt: 2025-05-26 22:23:04 -0400 (Mon, 26 May 2025) EllapsedTime: 2.0 seconds RetCode: 0 Status: OK PackageFile: diffGeneAnalysis_1.91.0.tgz PackageFileSize: 250.5 KiB