Package: destiny Version: 3.21.0 Command: /home/biocbuild/bbs-3.21-bioc/R/bin/R CMD check --install=check:destiny.install-out.txt --library=/home/biocbuild/bbs-3.21-bioc/R/site-library --timings destiny_3.21.0.tar.gz StartedAt: 2025-02-03 21:51:22 -0500 (Mon, 03 Feb 2025) EndedAt: 2025-02-03 22:01:57 -0500 (Mon, 03 Feb 2025) EllapsedTime: 634.8 seconds RetCode: 0 Status: OK CheckDir: destiny.Rcheck Warnings: 0