Package: destiny Version: 3.21.0 Command: /Library/Frameworks/R.framework/Resources/bin/R CMD check --install=check:destiny.install-out.txt --library=/Library/Frameworks/R.framework/Resources/library --no-vignettes --timings destiny_3.21.0.tar.gz StartedAt: 2025-02-03 20:07:58 -0500 (Mon, 03 Feb 2025) EndedAt: 2025-02-03 20:12:37 -0500 (Mon, 03 Feb 2025) EllapsedTime: 279.1 seconds RetCode: 0 Status: OK CheckDir: destiny.Rcheck Warnings: 0