Package: destiny Version: 3.21.0 Command: /Library/Frameworks/R.framework/Resources/bin/R CMD build --keep-empty-dirs --no-resave-data destiny StartedAt: 2025-02-03 16:34:37 -0500 (Mon, 03 Feb 2025) EndedAt: 2025-02-03 16:42:20 -0500 (Mon, 03 Feb 2025) EllapsedTime: 463.1 seconds RetCode: 0 Status: OK PackageFile: destiny_3.21.0.tar.gz PackageFileSize: 1020 KiB