Package: derfinderPlot Version: 1.41.0 Command: /Library/Frameworks/R.framework/Resources/bin/R CMD build --keep-empty-dirs --no-resave-data derfinderPlot StartedAt: 2025-02-03 16:34:09 -0500 (Mon, 03 Feb 2025) EndedAt: 2025-02-03 16:37:15 -0500 (Mon, 03 Feb 2025) EllapsedTime: 186.3 seconds RetCode: 0 Status: OK PackageFile: derfinderPlot_1.41.0.tar.gz PackageFileSize: 2.432 MiB