Package: derfinderPlot Version: 1.41.0 Command: /home/biocbuild/R/R/bin/R CMD check --install=check:derfinderPlot.install-out.txt --library=/home/biocbuild/R/R/site-library --no-vignettes --timings derfinderPlot_1.41.0.tar.gz StartedAt: 2025-01-28 09:54:52 -0000 (Tue, 28 Jan 2025) EndedAt: 2025-01-28 10:07:24 -0000 (Tue, 28 Jan 2025) EllapsedTime: 751.9 seconds RetCode: 0 Status: WARNINGS CheckDir: derfinderPlot.Rcheck Warnings: 5