Package: derfinderPlot Version: 1.41.0 Command: /home/biocbuild/R/R/bin/R CMD build --keep-empty-dirs --no-resave-data derfinderPlot StartedAt: 2025-01-28 22:25:38 -0000 (Tue, 28 Jan 2025) EndedAt: 2025-01-28 22:29:54 -0000 (Tue, 28 Jan 2025) EllapsedTime: 256.1 seconds RetCode: 0 Status: OK PackageFile: derfinderPlot_1.41.0.tar.gz PackageFileSize: 1.132 MiB