Package: derfinderPlot Version: 1.41.0 Command: /Library/Frameworks/R.framework/Resources/bin/R CMD INSTALL derfinderPlot StartedAt: 2025-02-03 15:52:57 -0500 (Mon, 03 Feb 2025) EndedAt: 2025-02-03 15:53:17 -0500 (Mon, 03 Feb 2025) EllapsedTime: 19.6 seconds RetCode: 0 Status: OK