Package: derfinderPlot Version: 1.41.0 Maintainer: Leonardo Collado-Torres MaintainerEmail: lcolladotor at gmail.com git_url: https://git.bioconductor.org/packages/derfinderPlot git_branch: devel git_last_commit: b8a1580 git_last_commit_date: 2024-12-12 16:44:18 -0500 (Thu, 12 Dec 2024)