Package: derfinderHelper Version: 1.43.0 Command: chmod a+r derfinderHelper -R && F:\biocbuild\bbs-3.22-bioc\R\bin\R.exe CMD build --keep-empty-dirs --no-resave-data derfinderHelper StartedAt: 2025-08-14 19:40:31 -0400 (Thu, 14 Aug 2025) EndedAt: 2025-08-14 19:40:59 -0400 (Thu, 14 Aug 2025) EllapsedTime: 27.2 seconds RetCode: 0 Status: OK PackageFile: derfinderHelper_1.43.0.tar.gz PackageFileSize: 310.3 KiB