Package: derfinderHelper Version: 1.43.0 Command: rm -rf derfinderHelper.buildbin-libdir && mkdir derfinderHelper.buildbin-libdir && F:\biocbuild\bbs-3.22-bioc\R\bin\R.exe CMD INSTALL --build --library=derfinderHelper.buildbin-libdir derfinderHelper_1.43.0.tar.gz StartedAt: 2025-08-15 10:08:46 -0400 (Fri, 15 Aug 2025) EndedAt: 2025-08-15 10:09:03 -0400 (Fri, 15 Aug 2025) EllapsedTime: 17.5 seconds RetCode: 0 Status: OK PackageFile: derfinderHelper_1.43.0.zip PackageFileSize: 328.7 KiB