Package: derfinder Version: 1.43.1 Command: chmod a+r derfinder -R && F:\biocbuild\bbs-3.22-bioc\R\bin\R.exe CMD build --keep-empty-dirs --no-resave-data derfinder StartedAt: 2025-08-14 19:40:15 -0400 (Thu, 14 Aug 2025) EndedAt: 2025-08-14 19:48:02 -0400 (Thu, 14 Aug 2025) EllapsedTime: 466.6 seconds RetCode: 0 Status: OK PackageFile: derfinder_1.43.1.tar.gz PackageFileSize: 1.074 MiB