Package: derfinder Version: 1.41.0 Command: rm -rf derfinder.buildbin-libdir && mkdir derfinder.buildbin-libdir && /Users/biocbuild/BBS/utils/build-universal.sh derfinder_1.41.0.tar.gz /Library/Frameworks/R.framework/Resources/bin/R derfinder.buildbin-libdir StartedAt: 2025-02-04 00:31:06 -0500 (Tue, 04 Feb 2025) EndedAt: 2025-02-04 00:32:10 -0500 (Tue, 04 Feb 2025) EllapsedTime: 63.5 seconds RetCode: 0 Status: OK PackageFile: derfinder_1.41.0.tgz PackageFileSize: 2.212 MiB