Package: derfinder Version: 1.41.0 Command: /Library/Frameworks/R.framework/Resources/bin/R CMD check --install=check:derfinder.install-out.txt --library=/Library/Frameworks/R.framework/Resources/library --no-vignettes --timings derfinder_1.41.0.tar.gz StartedAt: 2025-02-03 19:32:50 -0500 (Mon, 03 Feb 2025) EndedAt: 2025-02-03 19:36:34 -0500 (Mon, 03 Feb 2025) EllapsedTime: 224.7 seconds RetCode: 0 Status: OK CheckDir: derfinder.Rcheck Warnings: 0