Package: derfinder Version: 1.41.0 Command: rm -rf derfinder.buildbin-libdir && mkdir derfinder.buildbin-libdir && /Users/biocbuild/BBS/utils/build-universal.sh derfinder_1.41.0.tar.gz /Library/Frameworks/R.framework/Resources/bin/R derfinder.buildbin-libdir StartedAt: 2025-02-03 22:47:59 -0500 (Mon, 03 Feb 2025) EndedAt: 2025-02-03 22:48:19 -0500 (Mon, 03 Feb 2025) EllapsedTime: 20.4 seconds RetCode: 0 Status: OK PackageFile: derfinder_1.41.0.tgz PackageFileSize: 2.216 MiB