Package: derfinder Version: 1.43.0 Maintainer: Leonardo Collado-Torres MaintainerEmail: lcolladotor at gmail.com git_url: https://git.bioconductor.org/packages/derfinder git_branch: devel git_last_commit: 707dd36 git_last_commit_date: 2025-04-15 10:34:38 -0400 (Tue, 15 Apr 2025)