Package: demuxSNP Version: 1.7.1 Command: rm -rf demuxSNP.buildbin-libdir && mkdir demuxSNP.buildbin-libdir && F:\biocbuild\bbs-3.22-bioc\R\bin\R.exe CMD INSTALL --build --library=demuxSNP.buildbin-libdir demuxSNP_1.7.1.tar.gz StartedAt: 2025-08-15 10:08:13 -0400 (Fri, 15 Aug 2025) EndedAt: 2025-08-15 10:09:05 -0400 (Fri, 15 Aug 2025) EllapsedTime: 51.7 seconds RetCode: 0 Status: OK PackageFile: demuxSNP_1.7.1.zip PackageFileSize: 1.588 MiB