Package: demuxSNP Version: 1.7.1 Command: /home/biocbuild/bbs-3.22-bioc/R/bin/R CMD INSTALL demuxSNP StartedAt: 2025-10-03 15:40:10 -0400 (Fri, 03 Oct 2025) EndedAt: 2025-10-03 15:40:57 -0400 (Fri, 03 Oct 2025) EllapsedTime: 46.6 seconds RetCode: 0 Status: OK