Package: deltaCaptureC Version: 1.23.1 Command: rm -rf deltaCaptureC.buildbin-libdir && mkdir deltaCaptureC.buildbin-libdir && F:\biocbuild\bbs-3.22-bioc\R\bin\R.exe CMD INSTALL --build --library=deltaCaptureC.buildbin-libdir deltaCaptureC_1.23.1.tar.gz StartedAt: 2025-08-15 10:07:52 -0400 (Fri, 15 Aug 2025) EndedAt: 2025-08-15 10:09:17 -0400 (Fri, 15 Aug 2025) EllapsedTime: 86.0 seconds RetCode: 0 Status: OK PackageFile: deltaCaptureC_1.23.1.zip PackageFileSize: 597.8 KiB