Package: deltaCaptureC Version: 1.23.0 Maintainer: Michael Shapiro MaintainerEmail: michael.shapiro at crick.ac.uk git_url: https://git.bioconductor.org/packages/deltaCaptureC git_branch: devel git_last_commit: e5d218d git_last_commit_date: 2025-04-15 11:49:31 -0400 (Tue, 15 Apr 2025)