Package: deepSNV Version: 1.55.0 Command: /home/biocbuild/bbs-3.22-bioc/R/bin/R CMD INSTALL deepSNV StartedAt: 2025-10-09 15:42:52 -0400 (Thu, 09 Oct 2025) EndedAt: 2025-10-09 15:43:36 -0400 (Thu, 09 Oct 2025) EllapsedTime: 44.3 seconds RetCode: 0 Status: OK