Package: deepSNV Version: 1.55.0 Command: /home/biocbuild/bbs-3.22-bioc/R/bin/R CMD build --keep-empty-dirs --no-resave-data --md5 deepSNV StartedAt: 2025-10-09 17:18:00 -0400 (Thu, 09 Oct 2025) EndedAt: 2025-10-09 17:19:16 -0400 (Thu, 09 Oct 2025) EllapsedTime: 76.1 seconds RetCode: 0 Status: OK PackageFile: deepSNV_1.55.0.tar.gz PackageFileSize: 2.466 MiB