Package: decoupleR Version: 2.15.0 Command: /home/biocbuild/bbs-3.22-bioc/R/bin/R CMD INSTALL decoupleR StartedAt: 2025-10-05 15:09:06 -0400 (Sun, 05 Oct 2025) EndedAt: 2025-10-05 15:09:19 -0400 (Sun, 05 Oct 2025) EllapsedTime: 13.5 seconds RetCode: 0 Status: OK