Package: deconvR Version: 1.15.1 Command: chmod a+r deconvR -R && F:\biocbuild\bbs-3.22-bioc\R\bin\R.exe CMD build --keep-empty-dirs --no-resave-data deconvR StartedAt: 2025-08-14 19:33:31 -0400 (Thu, 14 Aug 2025) EndedAt: 2025-08-14 19:35:51 -0400 (Thu, 14 Aug 2025) EllapsedTime: 139.3 seconds RetCode: 0 Status: OK PackageFile: deconvR_1.15.1.tar.gz PackageFileSize: 3.794 MiB