Package: deconvR Version: 1.15.1 Command: rm -rf deconvR.buildbin-libdir && mkdir deconvR.buildbin-libdir && F:\biocbuild\bbs-3.22-bioc\R\bin\R.exe CMD INSTALL --build --library=deconvR.buildbin-libdir deconvR_1.15.1.tar.gz StartedAt: 2025-08-15 10:06:42 -0400 (Fri, 15 Aug 2025) EndedAt: 2025-08-15 10:07:50 -0400 (Fri, 15 Aug 2025) EllapsedTime: 67.6 seconds RetCode: 0 Status: OK PackageFile: deconvR_1.15.1.zip PackageFileSize: 3.821 MiB