Package: deconvR Version: 1.13.0 Command: /home/biocbuild/bbs-3.21-bioc/R/bin/R CMD INSTALL deconvR StartedAt: 2025-02-18 15:42:39 -0500 (Tue, 18 Feb 2025) EndedAt: 2025-02-18 15:43:29 -0500 (Tue, 18 Feb 2025) EllapsedTime: 49.8 seconds RetCode: 0 Status: OK