Package: deconvR Version: 1.13.0 Command: /Library/Frameworks/R.framework/Resources/bin/R CMD INSTALL deconvR StartedAt: 2025-02-18 15:40:54 -0500 (Tue, 18 Feb 2025) EndedAt: 2025-02-18 15:42:00 -0500 (Tue, 18 Feb 2025) EllapsedTime: 66.4 seconds RetCode: 0 Status: OK