Package: deconvR Version: 1.13.0 Command: /Library/Frameworks/R.framework/Resources/bin/R CMD build --keep-empty-dirs --no-resave-data deconvR StartedAt: 2025-02-18 16:24:54 -0500 (Tue, 18 Feb 2025) EndedAt: 2025-02-18 16:27:16 -0500 (Tue, 18 Feb 2025) EllapsedTime: 142.5 seconds RetCode: 0 Status: OK PackageFile: deconvR_1.13.0.tar.gz PackageFileSize: 3.789 MiB