Package: deconvR Version: 1.13.0 Command: /Library/Frameworks/R.framework/Resources/bin/R CMD INSTALL deconvR StartedAt: 2025-02-18 15:27:23 -0500 (Tue, 18 Feb 2025) EndedAt: 2025-02-18 15:27:44 -0500 (Tue, 18 Feb 2025) EllapsedTime: 21.2 seconds RetCode: 0 Status: OK