Package: deconvR Version: 1.17.0 Maintainer: Irem B. Gündüz MaintainerEmail: irembgunduz at gmail.com git_url: https://git.bioconductor.org/packages/deconvR git_branch: devel git_last_commit: 25b6419 git_last_commit_date: 2025-10-29 11:13:19 -0500 (Wed, 29 Oct 2025)