Package: decontam Version: 1.29.0 Command: /home/biocbuild/bbs-3.22-bioc/R/bin/R CMD INSTALL decontam StartedAt: 2025-10-23 15:08:37 -0400 (Thu, 23 Oct 2025) EndedAt: 2025-10-23 15:08:57 -0400 (Thu, 23 Oct 2025) EllapsedTime: 19.7 seconds RetCode: 0 Status: OK