Package: decontX Version: 1.5.0 Command: /home/biocbuild/bbs-3.21-bioc/R/bin/R CMD check --install=check:decontX.install-out.txt --library=/home/biocbuild/bbs-3.21-bioc/R/site-library --timings decontX_1.5.0.tar.gz StartedAt: 2025-02-09 21:33:09 -0500 (Sun, 09 Feb 2025) EndedAt: 2025-02-09 21:45:19 -0500 (Sun, 09 Feb 2025) EllapsedTime: 730.0 seconds RetCode: 0 Status: OK CheckDir: decontX.Rcheck Warnings: 0