Package: decontX Version: 1.5.0 Command: /home/biocbuild/bbs-3.21-bioc/R/bin/R CMD build --keep-empty-dirs --no-resave-data decontX StartedAt: 2025-02-09 16:54:53 -0500 (Sun, 09 Feb 2025) EndedAt: 2025-02-09 17:02:49 -0500 (Sun, 09 Feb 2025) EllapsedTime: 475.7 seconds RetCode: 0 Status: OK PackageFile: decontX_1.5.0.tar.gz PackageFileSize: 2.057 MiB