Package: decontX Version: 1.5.0 Command: /Library/Frameworks/R.framework/Resources/bin/R CMD INSTALL decontX StartedAt: 2025-02-05 15:41:00 -0500 (Wed, 05 Feb 2025) EndedAt: 2025-02-05 15:44:02 -0500 (Wed, 05 Feb 2025) EllapsedTime: 181.5 seconds RetCode: 0 Status: OK